BEGIN:VCALENDAR
VERSION:2.0
PRODID:-//wp-events-plugin.com//5.99912//EN
TZID:Europe/Berlin
X-WR-TIMEZONE:Europe/Berlin
BEGIN:VEVENT
UID:0-654@waldhausenrems.albverein.eu
DTSTART;TZID=Europe/Berlin:20260430T000000
DTEND;TZID=Europe/Berlin:20260430T000000
DTSTAMP:20260419T144343Z
URL:https://waldhausenrems.albverein.eu/events/jungseniorenwanderung-rundt
 our-eselsburger-tal/
SUMMARY:Jungseniorenwanderung im "Eselsburger Tal"
DESCRIPTION:Treffpunkt Bahnhof Waldhausen um 10:40 Uhr. Abfahrt mit der Bah
 n (Zustieg auch in Lorch möglich) nach Herbrechtingen um 10:53 Uhr. Unser
 e Wanderung startet dort um ca. 12 Uhr. Nach einem kurzen Weg durch die St
 adt wandern wir in Richtung Anhausen. Immer der Brenz entlang geht es dann
  nach Eselsburg. Für einen Mittagstisch haben wir dort in der „Talschen
 ke“ um 14 Uhr Plätze reserviert. Nach unserer Mittagspause wandern wir 
 hoch zur „Buigenhütte“ mit herrlichen Ausblicken hinunter zur Brenz. 
 Weiter geht es dann über einen schönen Wanderwaldweg zurück zum Bahnhof
  in Herbrechtingen. Wegen dem Mittagstisch ist keine Abschlusseinkehr vorg
 esehen. Die Wanderstrecke beträgt 9\,5 Kilometer bei 110 Höhenmeter. Bei
  feuchtem Wetter sind auf Grund eines kurzen Anstiegs evtl. Wanderstöcke 
 angenehm. Wegen des Fahrkartenkaufs und der Platzreservierung im Lokal ist
  eine Anmeldung erforderlich. Anmeldeschluss ist  Mittwoch der 29. April 
 um 12 Uhr bei Monika und Herbert Edelmaier per Email: sav-waldhausen-edelm
 aier@gmx.de oder Telefon 07172 914696 (Anrufbeantworter). Wir freuen uns 
 über zahlreiche Mitwanderer und selbstverständlich sind auch Nichtmitgli
 eder herzlich willkommen.
END:VEVENT
BEGIN:VTIMEZONE
TZID:Europe/Berlin
X-LIC-LOCATION:Europe/Berlin
BEGIN:DAYLIGHT
DTSTART:20260329T030000
TZOFFSETFROM:+0100
TZOFFSETTO:+0200
TZNAME:CEST
END:DAYLIGHT
END:VTIMEZONE
END:VCALENDAR