BEGIN:VCALENDAR
VERSION:2.0
PRODID:-//wp-events-plugin.com//5.99912//EN
TZID:Europe/Berlin
X-WR-TIMEZONE:Europe/Berlin
BEGIN:VEVENT
UID:0-653@waldhausenrems.albverein.eu
DTSTART;TZID=Europe/Berlin:20260429T000000
DTEND;TZID=Europe/Berlin:20260429T000000
DTSTAMP:20260408T072828Z
URL:https://waldhausenrems.albverein.eu/events/montagswanderer-im-himmelsg
 arten/
SUMMARY:Montagswanderer: Im Himmelsgarten
DESCRIPTION:Mittwoch\, 29. April 2026: MONTAGSWANDERER im Himmelsgarten  
             \n\nTreffpunkt: Bahnhof Lorch 13:40 Uhr. Zuerst fahren 
 wir mit dem Zug nach Schwäbisch Gmünd und steigen dort in den Bus nach W
 etzgau. Von dort geht es abwärts an der Kugelbahn entlang nach Gmünd. Di
 e Wanderstrecke ist ungefähr 2 ½ Kilometer lang und gut begehbar. Im Wir
 tshäusle am Turm &lt\;https://ogy.de/g7sc&gt\; werden wir zur Einkehr erw
 artet.\n\nAlle Interessierten sind herzlich willkommen. Anmeldungen nehmen
  entgegen: Heide Stolzenberger\, Tel. 07172 8173\, Email: &lt\;heidestolze
 nberger@gmail.com&gt\; oder Gerlinde Wolf\, Tel. 07181 4799981\, Email: &l
 t\;gerlinde155@web.de&gt\;. Gebt bitte bei der Anmeldung an\, ob ihr ein D
 eutschlandticket besitzt. ANMELDESCHLUSS: Samstag\, 25. April 2026.
END:VEVENT
BEGIN:VTIMEZONE
TZID:Europe/Berlin
X-LIC-LOCATION:Europe/Berlin
BEGIN:DAYLIGHT
DTSTART:20260329T030000
TZOFFSETFROM:+0100
TZOFFSETTO:+0200
TZNAME:CEST
END:DAYLIGHT
END:VTIMEZONE
END:VCALENDAR