BEGIN:VCALENDAR
VERSION:2.0
PRODID:-//wp-events-plugin.com//5.99912//EN
TZID:Europe/Berlin
X-WR-TIMEZONE:Europe/Berlin
BEGIN:VEVENT
UID:0-651@waldhausenrems.albverein.eu
DTSTART;TZID=Europe/Berlin:20260419T000000
DTEND;TZID=Europe/Berlin:20260419T000000
DTSTAMP:20260412T105812Z
URL:https://waldhausenrems.albverein.eu/events/regionalwanderung-schurwald
 -mit-herrlichem-rundblick/
SUMMARY:Regionalwanderung: Schurwald mit herrlichem Rundblick
DESCRIPTION: 19. April 2026: Regionalwanderung „ Schurwald mit herrliche
 m Rundblick“ Unter dem Motto „Wandern mit Freunden“ wurden bereits a
 uch in den letzten Jahren Frühjahrswanderungen initiiert. Es ist das Ziel
  auch unter den Ortsgruppen der Nordostalbregion die Kommunikation\, den Z
 usammenhalt und das soziale Miteinander zu stärken. Wie bereits im letzte
 n Blättle mitgeteilt\, starten wir um 10 Uhr beim Wanderheim Kirnbach. Am
  Krettenloch vorbei und durch den Schurwald geht´s hinauf zum Schneiderho
 f. Hier haben wir eine herrliche Aussicht auf den Welzheimer Wald und das 
 Remstal. Weiter geht es auf der Höhe in östlicher Richtung zum Reinhold-
 Maier-Turm. Von der Plattform des Turmes in 20 Meter Höhe haben wir einen
  fantastischen Ausblick auf die Schwäbische Alb und auf die 3 Kaiserberge
 . Unsere Tour führt uns dann über Rattenharz zum Pulzhof. Von hier geht 
 es talabwärts zur Einkehr in unser Wanderheim. Die Wanderstrecke beträgt
  11\,5 Kilometer bei ca. 200 Höhenmeter. Wanderführung: Doris Bedenik un
 d Monika Strohmaier (Bei Fragen: Tel. 0160 3052677). Wir freuen uns über 
 eine zahlreiche Teilnahme\, selbstverständlich sind auch Nichtmitglieder 
 gerne willkommen. Eine Anmeldung ist nicht erforderlich.\n\n&nbsp\;
END:VEVENT
BEGIN:VTIMEZONE
TZID:Europe/Berlin
X-LIC-LOCATION:Europe/Berlin
BEGIN:DAYLIGHT
DTSTART:20260329T030000
TZOFFSETFROM:+0100
TZOFFSETTO:+0200
TZNAME:CEST
END:DAYLIGHT
END:VTIMEZONE
END:VCALENDAR