BEGIN:VCALENDAR
VERSION:2.0
PRODID:-//wp-events-plugin.com//5.99912//EN
TZID:Europe/Berlin
X-WR-TIMEZONE:Europe/Berlin
BEGIN:VEVENT
UID:0-656@waldhausenrems.albverein.eu
DTSTART;TZID=Europe/Berlin:20260503T000000
DTEND;TZID=Europe/Berlin:20260503T000000
DTSTAMP:20260419T071302Z
URL:https://waldhausenrems.albverein.eu/events/sonntag-03-mai-2026-langer-
 sonntag-im-wanderheim/
SUMMARY:Sonntag\, 03. Mai 2026: "Langer Sonntag" im Wanderheim
DESCRIPTION:Unser Wanderheim ist von 10:30 Uhr bis 18 Uhr geöffent.\n\nNac
 h dem Frühschoppen Mittagstisch\, Kaffee/Kuchen und oder ein Vesper\n\nVe
 rbinden sie ihren Besuch mit einer Wanderung im Wonnemonat Mai....... \n\
 nalle Gäste sind herzlich willkommen !!\n\n&nbsp\;
END:VEVENT
BEGIN:VTIMEZONE
TZID:Europe/Berlin
X-LIC-LOCATION:Europe/Berlin
BEGIN:DAYLIGHT
DTSTART:20260329T030000
TZOFFSETFROM:+0100
TZOFFSETTO:+0200
TZNAME:CEST
END:DAYLIGHT
END:VTIMEZONE
END:VCALENDAR