BEGIN:VCALENDAR
VERSION:2.0
PRODID:-//wp-events-plugin.com//5.99912//EN
TZID:Europe/Berlin
X-WR-TIMEZONE:Europe/Berlin
BEGIN:VEVENT
UID:0-652@waldhausenrems.albverein.eu
DTSTART;TZID=Europe/Berlin:20260516T000000
DTEND;TZID=Europe/Berlin:20260516T000000
DTSTAMP:20260408T171109Z
URL:https://waldhausenrems.albverein.eu/events/tagesausflug-nach-riedenbur
 g-altmuehltal/
SUMMARY:Tagesausflug nach Riedenburg Altmühltal
DESCRIPTION:Samstag\, 16. Mai 2026: Tagesausflug nach Riedenburg im Altmüh
 ltal\n\nBitte Termin vormerken und Anmeldung nicht vergessen! \n\nWir fahr
 en mit einem modernen Reisebus für einen Tag nach Riedenburg. Die Abfahrt
  ist um 7 Uhr an der Remstalhalle in Waldhausen. Die Rückkehr ist gegen 2
 1:30 Uhr an gleicher Stelle geplant. Unsere anspruchsvolle und geführte W
 anderung startet um ca. 10 Uhr in Riedenburg direkt nach der Ankunft. Die 
 Wanderung über 15\,2 Kilometer bei 430 Höhenmeter geht durch eine herrli
 che Klamm zur Burg Prunn. Eine Trittsicherheit ist erforderlich\, Wanderst
 öcke sind empfehlenswert. Über den QR-Code kann man sich mit der Handyka
 mera in die Tourdaten einloggen. Ein Mittagstisch ist im Gasthaus Krone in
  Prunn vorgesehen. Teilnehmer können als Alternative sich auch in eigener
  Regie den Tagesablauf selbst gestalten. Es gibt z. B. eine Wanderstrecke 
 über 10 Kilometer hin- und zurück entlang an der Altmühl\, ohne Steigun
 g nach Prunn (selbst mit Kinderwagen möglich). Auch weitere kleinere Wand
 erungen zum Schloß Rosenburg oder zur Ruine Tachenstein bieten sich an. D
 irekt am Fluß gibt es zahlreiche Cafes und Eisdielen. Nachmittags besteht
  die Möglichkeit im Biergarten vom Brauhaus einzukehren\, um sich für di
 e Heimfahrt noch zu stärken. Schifffahrten sind samstags leider nicht mö
 glich.  Für den Tagesausflug kann man sich ab sofort anmelden. Natürlic
 h sind wie immer auch Nichtmitglieder herzlich willkommen. Die Anmeldung e
 rfolgt durch Überweisung der Fahrtkosten von 40\,-- Euro pro Person\, Kin
 der bis 14 Jahre 25\,-- Euro auf das Konto der Kreissparkasse Ostalb DE38 
 6145 0050 0440 9008 70 (BIC: OASPDE6AXXX) Schwäb. Albverein OG Waldhausen
 /Rems. Bitte geben Sie bei der Überweisung Ihren Namen und Ihre Telefonnu
 mmer an. Wir freuen uns auf zahlreiche Teilnehmende. Haben Sie bitte Verst
 ändnis\, dass wir uns vorbehalten\, bei weniger als 40 Teilnehmer den Aus
 flug abzusagen (in diesem Falle werden die vorausbezahlten Beträge selbst
 verständlich zurück überwiesen). Sollten noch Fragen bestehen\, bitte d
 en Organisator Michael Reik\, Teamsprecher der Ortsgruppe Waldhausen\, Tel
 . 0151 57713663 ansprechen.\n\n\n\nBild anklicken
END:VEVENT
BEGIN:VTIMEZONE
TZID:Europe/Berlin
X-LIC-LOCATION:Europe/Berlin
BEGIN:DAYLIGHT
DTSTART:20260329T030000
TZOFFSETFROM:+0100
TZOFFSETTO:+0200
TZNAME:CEST
END:DAYLIGHT
END:VTIMEZONE
END:VCALENDAR